BEGIN:VCALENDAR
VERSION:2.0
PRODID:-//Die Lighuis AGS Gansbaai - ECPv6.15.17//NONSGML v1.0//EN
CALSCALE:GREGORIAN
METHOD:PUBLISH
X-WR-CALNAME:Die Lighuis AGS Gansbaai
X-ORIGINAL-URL:https://agsgansbaai.co.za
X-WR-CALDESC:Events for Die Lighuis AGS Gansbaai
REFRESH-INTERVAL;VALUE=DURATION:PT1H
X-Robots-Tag:noindex
X-PUBLISHED-TTL:PT1H
BEGIN:VTIMEZONE
TZID:Africa/Johannesburg
BEGIN:STANDARD
TZOFFSETFROM:+0200
TZOFFSETTO:+0200
TZNAME:SAST
DTSTART:20240101T000000
END:STANDARD
END:VTIMEZONE
BEGIN:VEVENT
DTSTART;TZID=Africa/Johannesburg:20250809T100000
DTEND;TZID=Africa/Johannesburg:20250809T130000
DTSTAMP:20260423T202826
CREATED:20250715T024759Z
LAST-MODIFIED:20250715T031930Z
UID:636-1754733600-1754744400@agsgansbaai.co.za
SUMMARY:Ladies High Tea
DESCRIPTION:DAMES!\nMerk nou al die datum!\nSATERDAG 9 AUGUSTUS het ons ‘n HIGH TEA wat u asseblief nie moet mis nie.\nBespreek nou reeds u plek om teleurstelling te voorkom.Kom geniet ‘n gesellige oggend van samesyn.\nKaartjies is beskikbaar teen R100(sluit tee/koffie en ligte verversings in)by die kerkkantoor\, Magda Swart of Pastoor Lee-Ann.
URL:https://agsgansbaai.co.za/enkelbyeenkomste/ladies-high-tea/
LOCATION:AGS Gansbaai Aanbiddingsentrum\, 22 Muller Street\, Gansbaai\, Western Cape\, 7220\, South Africa
ATTACH;FMTTYPE=image/png:https://agsgansbaai.co.za/wp-content/uploads/2025/07/Facebook-Banner-High-Tea.png
ORGANIZER;CN="Pastoor Lee-Ann en Magda Swart":MAILTO:welkom@agsgansbaai.co.za
END:VEVENT
BEGIN:VEVENT
DTSTART;TZID=Africa/Johannesburg:20250726T150000
DTEND;TZID=Africa/Johannesburg:20250726T170000
DTSTAMP:20260423T202826
CREATED:20250714T234042Z
LAST-MODIFIED:20250715T000158Z
UID:588-1753542000-1753549200@agsgansbaai.co.za
SUMMARY:Vroue In Aksie Julie
DESCRIPTION:Dames!\n\nOns datum is uit vir die volgende Vroue in Aksie byeenkoms! Ons nooi julle uit om by ons in te skakel die 26ste Julie om 15:00 by AGS Gansbaai Aanbiddingsentrum.\n\nAs jy nog nie deel is nie\, kom maak ń verskil en raak deel!\n\nAs jy wil betrokke raak by Vroue in Aksie\, gee asseblief u naam op by Lee-Ann of Magda.\n\nOns is opgewonde om u daar te sien!
URL:https://agsgansbaai.co.za/enkelbyeenkomste/vroue-in-aksie-julie/
LOCATION:AGS Gansbaai Aanbiddingsentrum\, 22 Muller Street\, Gansbaai\, Western Cape\, 7220\, South Africa
ATTACH;FMTTYPE=image/png:https://agsgansbaai.co.za/wp-content/uploads/2025/07/Facebook-Banner-Vroue-In-Aksie.png
END:VEVENT
END:VCALENDAR